BEGIN:VCALENDAR
VERSION:2.0
PRODID:gruene-osterholz.de
METHOD:PUBLISH
BEGIN:VTIMEZONE
TZID:Europe/Berlin
X-LIC-LOCATION:Europe/Berlin
BEGIN:DAYLIGHT
TZOFFSETFROM:+0100
TZOFFSETTO:+0200
TZNAME:CEST
DTSTART:19700329T020000
RRULE:FREQ=YEARLY;INTERVAL=1;BYDAY=-1SU;BYMONTH=3
END:DAYLIGHT
BEGIN:STANDARD
TZOFFSETFROM:+0200
TZOFFSETTO:+0100
TZNAME:CET
DTSTART:19701025T030000
RRULE:FREQ=YEARLY;INTERVAL=1;BYDAY=-1SU;BYMONTH=10
END:STANDARD
END:VTIMEZONE
BEGIN:VEVENT
UID:519e52707feac6d5dfff5c37304045ab@gruene-osterholz.de
URL;VALUE=URI:https://gruene-osterholz.de/termine/%f0%9f%8f%a1-gemeinsam-
 wohnen-gemeinsam-leben-2/
LOCATION:Mehrgenerationenhaus, Bördrestr. 29a, Osterholz-Scharmbeck
SUMMARY:🏡 Gemeinsam wohnen, gemeinsam leben!
DESCRIPTION;ALTREP="data:text/html,%0A%3Cp%3EDer%20Arbeitskreis%20Br%C3%B
 Cggehuus%20trifft%20sich%20wieder%20und%20sucht%20nach%20Menschen%2C%20di
 e%20Lust%20auf%20innovative%20Wohnkonzepte%20haben.%3C%2Fp%3E%0A%0A%0A%0A
 %3Cp%3EIn%20Zeiten%20steigender%20Mieten%20und%20wachsender%20Einsamkeit%
 20brauchen%20wir%20neue%20Wohnideen%2C%20die%20bezahlbar%2C%20nachhaltig%
 20und%20gemeinschaftlich%20sind.%20Mehrgenerationenwohnen%20ist%20eine%20
 Antwort%20auf%20viele%20Herausforderungen%20unserer%20Zeit%20-%20vom%20Kl
 imaschutz%20bis%20zur%20sozialen%20Gerechtigkeit.%3C%2Fp%3E%0A%0A%0A%0A%3
 Cp%3E%3Cstrong%3EWir%20treffen%20uns%20am%2025.3.%20%28Aktuelles%20und%20
 Arbeitsgruppen%2C%20Wo%20stehen%20wir%2C%20wo%20geht%E2%80%99s%20weiter%3
 F%29%3C%2Fstrong%3E%3C%2Fp%3E%0A%0A%0A%0A%3Cp%3Eum%2016%20Uhr%20im%20Mehr
 generationenhaus%20in%20der%20B%C3%B6rderstra%C3%9Fe%2029a%20in%20Osterho
 lz-Scharmbeck.%20Kommt%20dazu%20und%20bringt%20eure%20Ideen%20ein%21%3C%2
 Fp%3E%0A%0A%0A%0A%3Cp%3EFragen%3F%20Das%20Kreisb%C3%BCro%20hilft%20donner
 stags%2010-13%20Uhr%20oder%20nach%20Vereinbarung%3A%20buero%40gruene-oste
 rholz.de%20%2F%2004791-3090987%3C%2Fp%3E%0A":Der Arbeitskreis Brüggehuus
  trifft sich wieder und sucht nach Menschen\, die Lust auf innovative Woh
 nkonzepte haben.\n\nIn Zeiten steigender Mieten und wachsender Einsamkeit
  brauchen wir neue Wohnideen\, die bezahlbar\, nachhaltig und gemeinschaf
 tlich sind. Mehrgenerationenwohnen ist eine Antwort auf viele Herausforde
 rungen unserer Zeit - vom Klimaschutz bis zur sozialen Gerechtigkeit.\n\n
 Wir treffen uns am 25.3. (Aktuelles und Arbeitsgruppen\, Wo stehen wir\, 
 wo geht’s weiter?)\n\num 16 Uhr im Mehrgenerationenhaus in der Börders
 traße 29a in Osterholz-Scharmbeck. Kommt dazu und bringt eure Ideen ein!
 \n\nFragen? Das Kreisbüro hilft donnerstags 10-13 Uhr oder nach Vereinba
 rung: buero@gruene-osterholz.de / 04791-3090987
CLASS:PUBLIC
DTSTART;TZID=Europe/Berlin:20260325T160000
DTEND;TZID=Europe/Berlin:20260325T180000
DTSTAMP:20260419T235235
END:VEVENT
END:VCALENDAR