BEGIN:VCALENDAR
VERSION:2.0
PRODID:gruene-osterholz.de
METHOD:PUBLISH
BEGIN:VTIMEZONE
TZID:Europe/Berlin
X-LIC-LOCATION:Europe/Berlin
BEGIN:DAYLIGHT
TZOFFSETFROM:+0100
TZOFFSETTO:+0200
TZNAME:CEST
DTSTART:19700329T020000
RRULE:FREQ=YEARLY;INTERVAL=1;BYDAY=-1SU;BYMONTH=3
END:DAYLIGHT
BEGIN:STANDARD
TZOFFSETFROM:+0200
TZOFFSETTO:+0100
TZNAME:CET
DTSTART:19701025T030000
RRULE:FREQ=YEARLY;INTERVAL=1;BYDAY=-1SU;BYMONTH=10
END:STANDARD
END:VTIMEZONE
BEGIN:VEVENT
UID:a0be96e831c4cf91c2021dfd7ef16da0@gruene-osterholz.de
URL;VALUE=URI:https://gruene-osterholz.de/termine/ag-niedersaechsischer-w
 eg/
LOCATION:Hembergstraße 35, Worpswede
SUMMARY:AG Niedersächsischer Weg
DESCRIPTION;ALTREP="data:text/html,%0A%3Cp%3EDies%20ist%20ein%20offenes%2
 0Treffen%2C%20an%20dem%20jeder%20Interessierte%20sich%20beteiligen%20kann
 .%20Also%20kommt%20und%20diskutiert%20mit.%3C%2Fp%3E%0A":Dies ist ein off
 enes Treffen\, an dem jeder Interessierte sich beteiligen kann. Also komm
 t und diskutiert mit.
CLASS:PUBLIC
DTSTART;TZID=Europe/Berlin:20230118T190000
DTEND;TZID=Europe/Berlin:20230118T210000
DTSTAMP:20260420T192821
END:VEVENT
END:VCALENDAR