BEGIN:VCALENDAR
VERSION:2.0
PRODID:gruene-osterholz.de
METHOD:PUBLISH
BEGIN:VTIMEZONE
TZID:Europe/Berlin
X-LIC-LOCATION:Europe/Berlin
BEGIN:DAYLIGHT
TZOFFSETFROM:+0100
TZOFFSETTO:+0200
TZNAME:CEST
DTSTART:19700329T020000
RRULE:FREQ=YEARLY;INTERVAL=1;BYDAY=-1SU;BYMONTH=3
END:DAYLIGHT
BEGIN:STANDARD
TZOFFSETFROM:+0200
TZOFFSETTO:+0100
TZNAME:CET
DTSTART:19701025T030000
RRULE:FREQ=YEARLY;INTERVAL=1;BYDAY=-1SU;BYMONTH=10
END:STANDARD
END:VTIMEZONE
BEGIN:VEVENT
UID:d698a30ced44dcf3d14e3e652f6a097e@gruene-osterholz.de
URL;VALUE=URI:https://gruene-osterholz.de/termine/das-gruene-grundsatzpro
 gramm-oekologie-wirtschaft/
LOCATION:
SUMMARY:Das Grüne Grundsatzprogramm – Soziales / Demokratie
DESCRIPTION;ALTREP="data:text/html,Dies%20ist%20ein%20Goto%20Meeting%20mi
 t%20den%20folgenden%20Einwahldaten%0A%0A%3Cspan%20class%3D%22inv-subject%
 22%3ETrainingsprogramm%20KV%20OHZ%3C%2Fspan%3E%0A%0A%3Cb%3E%20Nehmen%20Si
 e%20an%20meinem%20Meeting%20per%20Computer%2C%20Tablet%20oder%20Smartphon
 e%20teil.%20%3C%2Fb%3E%0A%3Cspan%20class%3D%22inv-meeting-url%22%3E%20%3C
 a%20href%3D%22https%3A%2F%2Fwww.gotomeet.me%2FKreisvorstand-OHZ%2Ftrainin
 gsprogramm-kv-ohz%22%20target%3D%22_blank%22%20rel%3D%22noopener%20norefe
 rrer%22%3Ehttps%3A%2F%2Fwww.gotomeet.me%2FKreisvorstand-OHZ%2Ftrainingspr
 ogramm-kv-ohz%3C%2Fa%3E%20%3C%2Fspan%3E%0A%0A%3Cb%3E%20Sie%20k%C3%B6nnen%
 20sich%20auch%20%C3%BCber%20ein%20Telefon%20einw%C3%A4hlen.%20%3C%2Fb%3E%
 0ADeutschland%3A%20%3Ca%20href%3D%22tel%3A%2B4989121402090%2C%2C634319421
 %23%22%3E%2B49%20891%202140%202090%3C%2Fa%3E%0A%0A%3Cb%3EZugangscode%3A%3
 C%2Fb%3E%20634-319-421%0A%0AGoto%20Meeting%20%C3%BCber%20das%20Gr%C3%BCne
 %20Programm%20mit%20Jens%20Parker":Dies ist ein Goto Meeting mit den folg
 enden Einwahldaten\n\nTrainingsprogramm KV OHZ\n\n Nehmen Sie an meinem M
 eeting per Computer\, Tablet oder Smartphone teil.\n\n https://www.gotome
 et.me/Kreisvorstand-OHZ/trainingsprogramm-kv-ohz\n\n Sie können sich auc
 h über ein Telefon einwählen.\n\nDeutschland: +49 891 2140 2090\n\nZuga
 ngscode: 634-319-421\n\nGoto Meeting über das Grüne Programm mit Jens P
 arker
CLASS:PUBLIC
DTSTART;TZID=Europe/Berlin:20200630T193000
DTEND;TZID=Europe/Berlin:20200630T213000
DTSTAMP:20260421T050547
END:VEVENT
END:VCALENDAR