BEGIN:VCALENDAR
VERSION:2.0
PRODID:gruene-osterholz.de
METHOD:PUBLISH
BEGIN:VTIMEZONE
TZID:Europe/Berlin
X-LIC-LOCATION:Europe/Berlin
BEGIN:DAYLIGHT
TZOFFSETFROM:+0100
TZOFFSETTO:+0200
TZNAME:CEST
DTSTART:19700329T020000
RRULE:FREQ=YEARLY;INTERVAL=1;BYDAY=-1SU;BYMONTH=3
END:DAYLIGHT
BEGIN:STANDARD
TZOFFSETFROM:+0200
TZOFFSETTO:+0100
TZNAME:CET
DTSTART:19701025T030000
RRULE:FREQ=YEARLY;INTERVAL=1;BYDAY=-1SU;BYMONTH=10
END:STANDARD
END:VTIMEZONE
BEGIN:VEVENT
UID:b457e19e1de07e48676fcec3f74c3120@gruene-osterholz.de
URL;VALUE=URI:https://gruene-osterholz.de/termine/das-gruene-grundsatzpro
 gramm-soziales-demokratie/
LOCATION:
SUMMARY:Das Grüne Grundsatzprogramm – Ökologie / Wirtschaft
DESCRIPTION;ALTREP="data:text/html,Dies%20ist%20ein%20Goto%20Meeting%20%C
 3%BCber%20das%20Gr%C3%BCne%20Programm%20mit%20folgenden%20Einwahldaten%3A
 %0A%0A%3Cspan%20class%3D%22inv-subject%22%3ETrainingsprogramm%20KV%20OHZ%
 3C%2Fspan%3E%0A%0A%3Cb%3E%20Nehmen%20Sie%20an%20meinem%20Meeting%20per%20
 Computer%2C%20Tablet%20oder%20Smartphone%20teil.%20%3C%2Fb%3E%0A%3Cspan%2
 0class%3D%22inv-meeting-url%22%3E%20%3Ca%20href%3D%22https%3A%2F%2Fwww.go
 tomeet.me%2FKreisvorstand-OHZ%2Ftrainingsprogramm-kv-ohz%22%20target%3D%2
 2_blank%22%20rel%3D%22noopener%20noreferrer%22%3Ehttps%3A%2F%2Fwww.gotome
 et.me%2FKreisvorstand-OHZ%2Ftrainingsprogramm-kv-ohz%3C%2Fa%3E%20%3C%2Fsp
 an%3E%0A%0A%3Cb%3E%20Sie%20k%C3%B6nnen%20sich%20auch%20%C3%BCber%20ein%20
 Telefon%20einw%C3%A4hlen.%20%3C%2Fb%3E%0ADeutschland%3A%20%3Ca%20href%3D%
 22tel%3A%2B4989121402090%2C%2C634319421%23%22%3E%2B49%20891%202140%202090
 %3C%2Fa%3E%0A%0A%3Cb%3EZugangscode%3A%3C%2Fb%3E%20634-319-421%0A%0AEin%20
 Meeting%20mit%20Christian%20Meyer%2C%20ehemaliger%20Agrarminister%20Niede
 rsachsen":Dies ist ein Goto Meeting über das Grüne Programm mit folgend
 en Einwahldaten:\n\nTrainingsprogramm KV OHZ\n\n Nehmen Sie an meinem Mee
 ting per Computer\, Tablet oder Smartphone teil.\n\n https://www.gotomeet
 .me/Kreisvorstand-OHZ/trainingsprogramm-kv-ohz\n\n Sie können sich auch 
 über ein Telefon einwählen.\n\nDeutschland: +49 891 2140 2090\n\nZugang
 scode: 634-319-421\n\nEin Meeting mit Christian Meyer\, ehemaliger Agrarm
 inister Niedersachsen
CLASS:PUBLIC
DTSTART;TZID=Europe/Berlin:20200707T193000
DTEND;TZID=Europe/Berlin:20200707T213000
DTSTAMP:20260420T192958
END:VEVENT
END:VCALENDAR