BEGIN:VCALENDAR
VERSION:2.0
PRODID:gruene-osterholz.de
METHOD:PUBLISH
BEGIN:VTIMEZONE
TZID:Europe/Berlin
X-LIC-LOCATION:Europe/Berlin
BEGIN:DAYLIGHT
TZOFFSETFROM:+0100
TZOFFSETTO:+0200
TZNAME:CEST
DTSTART:19700329T020000
RRULE:FREQ=YEARLY;INTERVAL=1;BYDAY=-1SU;BYMONTH=3
END:DAYLIGHT
BEGIN:STANDARD
TZOFFSETFROM:+0200
TZOFFSETTO:+0100
TZNAME:CET
DTSTART:19701025T030000
RRULE:FREQ=YEARLY;INTERVAL=1;BYDAY=-1SU;BYMONTH=10
END:STANDARD
END:VTIMEZONE
BEGIN:VEVENT
UID:8c525a6f65a0261399eb27913c61fd22@gruene-osterholz.de
URL;VALUE=URI:https://gruene-osterholz.de/termine/demokratie-in-gefahr/
LOCATION:Hotel Daub, Bahnhofstraße 2, 27432 Bremervoerde
SUMMARY:Demokratie in Gefahr
DESCRIPTION;ALTREP="data:text/html,%0A%3Cp%3EAm%2008.04.2024%20kommt%20Fr
 ank%20Ziemann%20in%20das%20Hotel%20Daub%20und%20wird%20%C3%BCber%20das%20
 Thema%20Demokratie%20in%20Gefahr%20sprechen%20und%20diskutieren.%20Frank%
 20Ziemann%20arbeit%20im%20Ministeerium%20f%C3%BCr%20Inneres%20und%20Sport
 %20im%20Arbeitsbereich%20Pr%C3%A4vention%20beim%20Verfassungsschutz.%3C%2
 Fp%3E%0A":Am 08.04.2024 kommt Frank Ziemann in das Hotel Daub und wird ü
 ber das Thema Demokratie in Gefahr sprechen und diskutieren. Frank Zieman
 n arbeit im Ministeerium für Inneres und Sport im Arbeitsbereich Präven
 tion beim Verfassungsschutz.
CLASS:PUBLIC
DTSTART;TZID=Europe/Berlin:20240408T193000
DTEND;TZID=Europe/Berlin:20240408T210000
DTSTAMP:20260420T192931
END:VEVENT
END:VCALENDAR