BEGIN:VCALENDAR
VERSION:2.0
PRODID:gruene-osterholz.de
METHOD:PUBLISH
BEGIN:VTIMEZONE
TZID:Europe/Berlin
X-LIC-LOCATION:Europe/Berlin
BEGIN:DAYLIGHT
TZOFFSETFROM:+0100
TZOFFSETTO:+0200
TZNAME:CEST
DTSTART:19700329T020000
RRULE:FREQ=YEARLY;INTERVAL=1;BYDAY=-1SU;BYMONTH=3
END:DAYLIGHT
BEGIN:STANDARD
TZOFFSETFROM:+0200
TZOFFSETTO:+0100
TZNAME:CET
DTSTART:19701025T030000
RRULE:FREQ=YEARLY;INTERVAL=1;BYDAY=-1SU;BYMONTH=10
END:STANDARD
END:VTIMEZONE
BEGIN:VEVENT
UID:4930e8694774795fbd3c81ec1ea7a729@gruene-osterholz.de
URL;VALUE=URI:https://gruene-osterholz.de/termine/gemeinsam-statt-einsam/
LOCATION:
SUMMARY:Gemeinsam statt einsam!
DESCRIPTION;ALTREP="data:text/html,%0A%3Cp%3E%21%20N%C3%A4chstes%20Arbeit
 streffen%20am%2027.8.25%20ab%2016%20Uhr%20im%20Mehrgenerationenhaus%20B%C
 3%B6rdestra%C3%9Fe%2029%20in%20Osterholz-Scharmbeck%3C%2Fp%3E%0A%0A%0A%0A
 %3Cp%3EIn%20Osterholz-Scharmbeck%20soll%20ein%20spannendes%20Mehrgenerati
 onenprojekt%20entstehen%2C%20das%20Wohnraum%20neu%20denkt.%20Eigene%20vie
 r%20W%C3%A4nde%20UND%20Gemeinschaft%20-%20so%20geht%20nachhaltige%20Zukun
 ft%21%20%F0%9F%92%9A%3C%2Fp%3E%0A%0A%0A%0A%3Cp%3EW%C3%A4hrend%20viele%20%
 C3%84ltere%20in%20zu%20gro%C3%9Fen%20Wohnungen%20leben%2C%20suchen%20jung
 e%20Menschen%20verzweifelt%20bezahlbaren%20Wohnraum.%20Unsere%20L%C3%B6su
 ng%3A%20gemeinschaftliches%20Wohnen%20mit%20Privatbereich%20und%20gemeins
 amen%20G%C3%A4rten%20und%20Treffpunkten.%3C%2Fp%3E%0A%0A%0A%0A%3Cp%3EDu%2
 0willst%20mehr%20erfahren%3F%20Komm%20zum%20n%C3%A4chsten%20Treffen.%20In
 fos%20gibt%20es%20auch%20bei%20uns%20im%20Kreisb%C3%BCro%2C%20Bahnhofstr.
 %2088%20in%20Osterholz-Scharmbeck%2C%2004791%2F3090987%20oder%20%3Ca%20hr
 ef%3D%22mailto%3Abuero%40gruene-osterholz.de%22%3Ebuero%40gruene-osterhol
 z.de%3C%2Fa%3E%3C%2Fp%3E%0A":! Nächstes Arbeitstreffen am 27.8.25 ab 16 
 Uhr im Mehrgenerationenhaus Bördestraße 29 in Osterholz-Scharmbeck\n\nI
 n Osterholz-Scharmbeck soll ein spannendes Mehrgenerationenprojekt entste
 hen\, das Wohnraum neu denkt. Eigene vier Wände UND Gemeinschaft - so ge
 ht nachhaltige Zukunft! 💚\n\nWährend viele Ältere in zu großen Wohn
 ungen leben\, suchen junge Menschen verzweifelt bezahlbaren Wohnraum. Uns
 ere Lösung: gemeinschaftliches Wohnen mit Privatbereich und gemeinsamen 
 Gärten und Treffpunkten.\n\nDu willst mehr erfahren? Komm zum nächsten 
 Treffen. Infos gibt es auch bei uns im Kreisbüro\, Bahnhofstr. 88 in Ost
 erholz-Scharmbeck\, 04791/3090987 oder buero@gruene-osterholz.de
CLASS:PUBLIC
DTSTART;TZID=Europe/Berlin:20250827T160000
DTEND;TZID=Europe/Berlin:20250827T180000
DTSTAMP:20260420T193117
END:VEVENT
END:VCALENDAR