BEGIN:VCALENDAR
VERSION:2.0
PRODID:gruene-osterholz.de
METHOD:PUBLISH
BEGIN:VTIMEZONE
TZID:Europe/Berlin
X-LIC-LOCATION:Europe/Berlin
BEGIN:DAYLIGHT
TZOFFSETFROM:+0100
TZOFFSETTO:+0200
TZNAME:CEST
DTSTART:19700329T020000
RRULE:FREQ=YEARLY;INTERVAL=1;BYDAY=-1SU;BYMONTH=3
END:DAYLIGHT
BEGIN:STANDARD
TZOFFSETFROM:+0200
TZOFFSETTO:+0100
TZNAME:CET
DTSTART:19701025T030000
RRULE:FREQ=YEARLY;INTERVAL=1;BYDAY=-1SU;BYMONTH=10
END:STANDARD
END:VTIMEZONE
BEGIN:VEVENT
UID:fc2c6f7c5116e915182505d974027fac@gruene-osterholz.de
URL;VALUE=URI:https://gruene-osterholz.de/termine/gemeinsam-statt-einsam-
 2/
LOCATION:Mehrgenerationenhaus, Bördestraße 29a, Osterholz-Scharmbeck
SUMMARY:Gemeinsam statt einsam!
DESCRIPTION;ALTREP="data:text/html,%0A%3Cp%3EN%C3%A4chstes%20Arbeitstreff
 en%20am%20%3Cstrong%3E10.9.25%3C%2Fstrong%3E%20ab%2016%20Uhr%20im%20Mehrg
 enerationenhaus%20B%C3%B6rdestra%C3%9Fe%2029a%20in%20Osterholz-Scharmbeck
 %3C%2Fp%3E%0A%0A%0A%0A%3Cp%3EIn%20Osterholz-Scharmbeck%20soll%20ein%20spa
 nnendes%20Mehrgenerationenprojekt%20entstehen%2C%20das%20Wohnraum%20neu%2
 0denkt.%20Eigene%20vier%20W%C3%A4nde%20UND%20Gemeinschaft%20-%20so%20geht
 %20nachhaltige%20Zukunft%21%20%F0%9F%92%9A%3C%2Fp%3E%0A%0A%0A%0A%3Cp%3EW%
 C3%A4hrend%20viele%20%C3%84ltere%20in%20zu%20gro%C3%9Fen%20Wohnungen%20le
 ben%2C%20suchen%20junge%20Menschen%20verzweifelt%20bezahlbaren%20Wohnraum
 .%20Unsere%20L%C3%B6sung%3A%20gemeinschaftliches%20Wohnen%20mit%20Privatb
 ereich%20und%20gemeinsamen%20G%C3%A4rten%20und%20Treffpunkten.%3C%2Fp%3E%
 0A%0A%0A%0A%3Cp%3EDu%20willst%20mehr%20erfahren%3F%20Komm%20zum%20n%C3%A4
 chsten%20Treffen.%3C%2Fp%3E%0A%0A%0A%0A%3Cp%3EInfos%20gibt%20es%20auch%20
 bei%20uns%20im%20Kreisb%C3%BCro%2C%20Bahnhofstr.%2088%20in%20Osterholz-Sc
 harmbeck%2C%2004791%2F3090987%20oder%20%3Ca%20href%3D%22mailto%3Abuero%40
 gruene-osterholz.de%22%3Ebuero%40gruene-osterholz.de%3C%2Fa%3E%3C%2Fp%3E%
 0A":Nächstes Arbeitstreffen am 10.9.25 ab 16 Uhr im Mehrgenerationenhaus
  Bördestraße 29a in Osterholz-Scharmbeck\n\nIn Osterholz-Scharmbeck sol
 l ein spannendes Mehrgenerationenprojekt entstehen\, das Wohnraum neu den
 kt. Eigene vier Wände UND Gemeinschaft - so geht nachhaltige Zukunft! 
 💚\n\nWährend viele Ältere in zu großen Wohnungen leben\, suchen jun
 ge Menschen verzweifelt bezahlbaren Wohnraum. Unsere Lösung: gemeinschaf
 tliches Wohnen mit Privatbereich und gemeinsamen Gärten und Treffpunkten
 .\n\nDu willst mehr erfahren? Komm zum nächsten Treffen.\n\nInfos gibt e
 s auch bei uns im Kreisbüro\, Bahnhofstr. 88 in Osterholz-Scharmbeck\, 0
 4791/3090987 oder buero@gruene-osterholz.de
CLASS:PUBLIC
DTSTART;TZID=Europe/Berlin:20250910T160000
DTEND;TZID=Europe/Berlin:20250910T180000
DTSTAMP:20260420T193110
END:VEVENT
END:VCALENDAR