BEGIN:VCALENDAR
VERSION:2.0
PRODID:gruene-osterholz.de
METHOD:PUBLISH
BEGIN:VTIMEZONE
TZID:Europe/Berlin
X-LIC-LOCATION:Europe/Berlin
BEGIN:DAYLIGHT
TZOFFSETFROM:+0100
TZOFFSETTO:+0200
TZNAME:CEST
DTSTART:19700329T020000
RRULE:FREQ=YEARLY;INTERVAL=1;BYDAY=-1SU;BYMONTH=3
END:DAYLIGHT
BEGIN:STANDARD
TZOFFSETFROM:+0200
TZOFFSETTO:+0100
TZNAME:CET
DTSTART:19701025T030000
RRULE:FREQ=YEARLY;INTERVAL=1;BYDAY=-1SU;BYMONTH=10
END:STANDARD
END:VTIMEZONE
BEGIN:VEVENT
UID:8b09ec6b0fa49d5274eb87392aa57c24@gruene-osterholz.de
URL;VALUE=URI:https://gruene-osterholz.de/termine/kathrin-langensiepen-be
 sucht-buergermeister/
LOCATION:Lilientahl Rathaus, Lilienthal
SUMMARY:Kathrin Langensiepen besucht Bürgermeister
DESCRIPTION;ALTREP="data:text/html,%0A%3Cp%3EAm%2030.05.2024%20kommt%20Ka
 thrin%20Langensiepen%20%28MdEP%29%20und%20Kandidatin%20auf%20einem%20auss
 ichtsreichen%20Listenplatz%20f%C3%BCr%20das%20EP%20nach%20Lilienthal.%3C%
 2Fp%3E%0A%0A%0A%0A%3Cp%3EUm%2015%3A30%20Uhr%20wird%20Kathrin%20Langensiep
 en%20die%20Diakonie%20in%20Lilienthal%20besuchen.%20Im%20Anschluss%20dara
 n%20wird%20ein%20Gespr%C3%A4ch%20mit%20dem%20B%C3%BCrgermeister%20Kim%20F
 %C3%BCrwentsches%20stattfinden%2C%20um%20die%20Situation%20beim%20Hochwas
 ser%20noch%20einmal%20zu%20beleuchten.%3C%2Fp%3E%0A%0A%0A%0A%3Cp%3EKathri
 n%20Langensiepen%20wird%20um%2019%3A00%20Uhr%20dann%20auf%20einer%20Podiu
 msdiskussion%20in%20Osterholz%20auftreten.%3C%2Fp%3E%0A":Am 30.05.2024 ko
 mmt Kathrin Langensiepen (MdEP) und Kandidatin auf einem aussichtsreichen
  Listenplatz für das EP nach Lilienthal.\n\nUm 15:30 Uhr wird Kathrin La
 ngensiepen die Diakonie in Lilienthal besuchen. Im Anschluss daran wird e
 in Gespräch mit dem Bürgermeister Kim Fürwentsches stattfinden\, um di
 e Situation beim Hochwasser noch einmal zu beleuchten.\n\nKathrin Langens
 iepen wird um 19:00 Uhr dann auf einer Podiumsdiskussion in Osterholz auf
 treten.
CLASS:PUBLIC
DTSTART;TZID=Europe/Berlin:20240530T075600
DTEND;TZID=Europe/Berlin:20240530T150000
DTSTAMP:20260420T193523
END:VEVENT
END:VCALENDAR