BEGIN:VCALENDAR
VERSION:2.0
PRODID:gruene-osterholz.de
METHOD:PUBLISH
BEGIN:VTIMEZONE
TZID:Europe/Berlin
X-LIC-LOCATION:Europe/Berlin
BEGIN:DAYLIGHT
TZOFFSETFROM:+0100
TZOFFSETTO:+0200
TZNAME:CEST
DTSTART:19700329T020000
RRULE:FREQ=YEARLY;INTERVAL=1;BYDAY=-1SU;BYMONTH=3
END:DAYLIGHT
BEGIN:STANDARD
TZOFFSETFROM:+0200
TZOFFSETTO:+0100
TZNAME:CET
DTSTART:19701025T030000
RRULE:FREQ=YEARLY;INTERVAL=1;BYDAY=-1SU;BYMONTH=10
END:STANDARD
END:VTIMEZONE
BEGIN:VEVENT
UID:ea3c26de40949ed7609d4434b0911eef@gruene-osterholz.de
URL;VALUE=URI:https://gruene-osterholz.de/termine/kreisvorstandssitzung/
LOCATION:Hotel Jägerstuben, Struckbergstr. 23, Ritterhude
SUMMARY:Kreisvorstandssitzung
DESCRIPTION;ALTREP="data:text/html,%0A%3Cp%3EUnter%20anderem%20stellt%20s
 ich%20die%20Gruppe%20%22Gemeinsam%20Wohnen%22%20vor.%20Die%20Sitzung%20fi
 ndet%20in%20Ritterhude%20statt.%3C%2Fp%3E%0A":Unter anderem stellt sich d
 ie Gruppe "Gemeinsam Wohnen" vor. Die Sitzung findet in Ritterhude statt.
CLASS:PUBLIC
DTSTART;TZID=Europe/Berlin:20250910T190000
DTEND;TZID=Europe/Berlin:20250910T210000
DTSTAMP:20260420T192957
END:VEVENT
END:VCALENDAR