BEGIN:VCALENDAR
VERSION:2.0
PRODID:gruene-osterholz.de
METHOD:PUBLISH
BEGIN:VTIMEZONE
TZID:Europe/Berlin
X-LIC-LOCATION:Europe/Berlin
BEGIN:DAYLIGHT
TZOFFSETFROM:+0100
TZOFFSETTO:+0200
TZNAME:CEST
DTSTART:19700329T020000
RRULE:FREQ=YEARLY;INTERVAL=1;BYDAY=-1SU;BYMONTH=3
END:DAYLIGHT
BEGIN:STANDARD
TZOFFSETFROM:+0200
TZOFFSETTO:+0100
TZNAME:CET
DTSTART:19701025T030000
RRULE:FREQ=YEARLY;INTERVAL=1;BYDAY=-1SU;BYMONTH=10
END:STANDARD
END:VTIMEZONE
BEGIN:VEVENT
UID:1cbeee77ae23f9efaa5fababcf298e51@gruene-osterholz.de
URL;VALUE=URI:https://gruene-osterholz.de/termine/neujahrsempfang-2025/
LOCATION:Küsterhaus, Damm, Schwanewede
SUMMARY:Neujahrsempfang 2025
DESCRIPTION;ALTREP="data:text/html,%0A%3Cp%3EDer%20diesj%C3%A4hrige%20Neu
 jahrsempfang%20wird%20in%20Schwanewede%20stattfinden.%20%3C%2Fp%3E%0A%0A%
 0A%0A%3Cp%3EAls%20Gastredner%20konnten%20wir%20Stephan%20Christ%20gewinne
 n.%20Er%20ist%20Mitglied%20des%20Landtages%20in%20Niedersachsen%2C%20Frak
 tionssprecher%20f%C3%BCr%20Mobilit%C3%A4t%20und%20Verkehr%20und%20Mitglie
 d%20des%20Ausschusses%20f%C3%BCr%20Wirtschaft%2C%20Arbeit%2C%20Verkehr%20
 und%20Digitalisierung.%20Er%20wird%20besonders%20auf%20das%20Thema%20Mobi
 lit%C3%A4t%20im%20l%C3%A4ndlichen%20Raum%20eingehen.%20Musik%20wird%20die
 %20Veranstaltung%20untermalen.%3C%2Fp%3E%0A":Der diesjährige Neujahrsemp
 fang wird in Schwanewede stattfinden.\n\nAls Gastredner konnten wir Steph
 an Christ gewinnen. Er ist Mitglied des Landtages in Niedersachsen\, Frak
 tionssprecher für Mobilität und Verkehr und Mitglied des Ausschusses f
 ür Wirtschaft\, Arbeit\, Verkehr und Digitalisierung. Er wird besonders 
 auf das Thema Mobilität im ländlichen Raum eingehen. Musik wird die Ver
 anstaltung untermalen.
CLASS:PUBLIC
DTSTART;TZID=Europe/Berlin:20250112T150000
DTEND;TZID=Europe/Berlin:20250112T190000
DTSTAMP:20260420T193636
END:VEVENT
END:VCALENDAR