BEGIN:VCALENDAR
VERSION:2.0
PRODID:gruene-osterholz.de
METHOD:PUBLISH
BEGIN:VTIMEZONE
TZID:Europe/Berlin
X-LIC-LOCATION:Europe/Berlin
BEGIN:DAYLIGHT
TZOFFSETFROM:+0100
TZOFFSETTO:+0200
TZNAME:CEST
DTSTART:19700329T020000
RRULE:FREQ=YEARLY;INTERVAL=1;BYDAY=-1SU;BYMONTH=3
END:DAYLIGHT
BEGIN:STANDARD
TZOFFSETFROM:+0200
TZOFFSETTO:+0100
TZNAME:CET
DTSTART:19701025T030000
RRULE:FREQ=YEARLY;INTERVAL=1;BYDAY=-1SU;BYMONTH=10
END:STANDARD
END:VTIMEZONE
BEGIN:VEVENT
UID:864f750bb92e6302d9c8705a863c9646@gruene-osterholz.de
URL;VALUE=URI:https://gruene-osterholz.de/termine/oeffentliche-kmv-weserm
 arsch/
LOCATION:Krieg in der Ukraine
SUMMARY:Öffentliche KMV Wesermarsch
DESCRIPTION;ALTREP="data:text/html,%0A%3Cp%3Eam%20Montag%20%287.%20M%C3%A
 4rz%2C%2020%20Uhr%29%20veranstaltet%20der%20Kreisverband%20Wesermarsch%20
 eine%20digitale%20KMV%20mit%20der%20MdB%20Christina-Johanne%20Schr%C3%B6d
 er%20und%20dem%20besonderen%20Gast%20J%C3%BCrgen%20Trittin%2C%20au%C3%9Fe
 npolitischer%20Sprecher%20der%20Gr%C3%BCnen%20Bundestagsfraktion.%20Thema
 %20ist%20der%20Krieg%20in%20der%20Ukraine%20und%20die%20entsprechenden%20
 Auswirkungen%20auf%20die%20Welt.%20Der%20Vorstand%20hat%20beschlossen%2C%
 20dass%20auch%20Mitglieder%20des%20Kreisverbandes%20Osterholz%20gerne%20d
 aran%20teilnehmen%20k%C3%B6nnen.%3C%2Fp%3E%0A%0A%0A%0A%3Cp%3EAls%20der%20
 KV%20Wesermarsch%20vor%20rund%20einem%20Monat%20in%20die%20Planungen%20ei
 ngestiegen%20ist%2C%20konnten%20sie%20noch%20nicht%20mit%20einer%20derart
 igen%20Eskalation%20rechnen%2C%20weshalb%20sie%20auf%20ihren%20Kan%C3%A4l
 en%20noch%20f%C3%BCr%20eine%20KMV%20zum%20Thema%20%E2%80%9ELage%20an%20de
 r%20Grenze%20zwischen%20der%20Ukraine%20und%20Russland%E2%80%9C%20geworbe
 n%20haben.%20%3C%2Fp%3E%0A%0A%0A%0A%3Cp%3EExterne%20G%C3%A4ste%20sollen%2
 0sich%20bitte%20anmelden%20unter%20der%20Mailadresse%3A%20%3Ca%20href%3D%
 22anmeldung%40gruene-wesermarsch.de%22%3EGr%C3%BCne%20KV%20Wesermarsch%3C
 %2Fa%3E%3C%2Fp%3E%0A%0A%0A%0A%3Cp%3E%3Cstrong%3EHier%20die%20Anmeldedaten
 %3A%3C%2Fstrong%3E%20Mo.%2C%26nbsp%3B7.%26nbsp%3BM%C3%A4rz%26nbsp%3B2022%
 3B%26nbsp%3B20%3A00%26nbsp%3BUhr%26nbsp%3B%28CET%29%3Cbr%3E%3Ca%20rel%3D%
 22noreferrer%20noopener%22%20href%3D%22https%3A%2F%2Fmeet.goto.com%2FGRUE
 NEWesermarsch%2Fkmv-zur-ukraine-situation%22%20target%3D%22_blank%22%3Eht
 tps%3A%2F%2Fmeet.goto.com%2FGRUENEWesermarsch%2Fkmv-zur-ukraine-situation
 %3C%2Fa%3E%3Cbr%3E%3Cbr%3ESie%26nbsp%3Bk%C3%B6nnen%26nbsp%3Bsich%26nbsp%3
 Bauch%26nbsp%3B%C3%BCber%26nbsp%3Bein%26nbsp%3BTelefon%26nbsp%3Beinw%C3%A
 4hlen.%3Cbr%3EDeutschland%3A%26nbsp%3B%2B49%26nbsp%3B721%26nbsp%3B6059%26
 nbsp%3B6510%3Cbr%3E%3Cbr%3EZugangscode%3A%26nbsp%3B572-083-693%3C%2Fp%3E%
 0A":am Montag (7. März\, 20 Uhr) veranstaltet der Kreisverband Wesermars
 ch eine digitale KMV mit der MdB Christina-Johanne Schröder und dem beso
 nderen Gast Jürgen Trittin\, außenpolitischer Sprecher der Grünen Bund
 estagsfraktion. Thema ist der Krieg in der Ukraine und die entsprechenden
  Auswirkungen auf die Welt. Der Vorstand hat beschlossen\, dass auch Mitg
 lieder des Kreisverbandes Osterholz gerne daran teilnehmen können.\n\nAl
 s der KV Wesermarsch vor rund einem Monat in die Planungen eingestiegen i
 st\, konnten sie noch nicht mit einer derartigen Eskalation rechnen\, wes
 halb sie auf ihren Kanälen noch für eine KMV zum Thema „Lage an der G
 renze zwischen der Ukraine und Russland“ geworben haben.\n\nExterne Gä
 ste sollen sich bitte anmelden unter der Mailadresse: Grüne KV Wesermars
 ch\n\nHier die Anmeldedaten: Mo.\, 7. März 2022\; 20:00 Uhr (CET)h
 ttps://meet.goto.com/GRUENEWesermarsch/kmv-zur-ukraine-situationSie kön
 nen sich auch über ein Telefon einwählen.Deutschland: +49 721 
 6059 6510Zugangscode: 572-083-693
CLASS:PUBLIC
DTSTART;TZID=Europe/Berlin:20220307T200000
DTEND;TZID=Europe/Berlin:20220307T220000
DTSTAMP:20260422T031922
END:VEVENT
END:VCALENDAR