BEGIN:VCALENDAR
VERSION:2.0
PRODID:gruene-osterholz.de
METHOD:PUBLISH
BEGIN:VTIMEZONE
TZID:Europe/Berlin
X-LIC-LOCATION:Europe/Berlin
BEGIN:DAYLIGHT
TZOFFSETFROM:+0100
TZOFFSETTO:+0200
TZNAME:CEST
DTSTART:19700329T020000
RRULE:FREQ=YEARLY;INTERVAL=1;BYDAY=-1SU;BYMONTH=3
END:DAYLIGHT
BEGIN:STANDARD
TZOFFSETFROM:+0200
TZOFFSETTO:+0100
TZNAME:CET
DTSTART:19701025T030000
RRULE:FREQ=YEARLY;INTERVAL=1;BYDAY=-1SU;BYMONTH=10
END:STANDARD
END:VTIMEZONE
BEGIN:VEVENT
UID:4ddc1250fe9ddf1bac85cc7175b2f173@gruene-osterholz.de
URL;VALUE=URI:https://gruene-osterholz.de/termine/teuer-heizen-gesetz/
LOCATION:online
SUMMARY:Teuer-Heizen-Gesetz
DESCRIPTION;ALTREP="data:text/html,%0A%3Cp%3E%22Das%20Teuer-Heizen-Gesetz
 %20-%20Kostentreiber%20f%C3%BCr%20die%20Miete%2C%20Katastrophe%20f%C3%BCr
 %20das%20Klima%2C%20Geschenk%20f%C3%BCr%20die%20Gaslobby%22%F0%9F%94%A5%3
 C%2Fp%3E%0A%0A%0A%0A%3Cp%3EWir%20sprechen%20mit%20Irmela%20Cola%C3%A7o%20
 %28BUND%20e.V.%29%2C%20Florian%20Becker%20%28Deutscher%20Mieterbund%29%20
 und%20Lennart%20Feldmann%20%28GIH%20Energieberater%29%20sowie%20Julia%20V
 erlinden%20%28MdB%29%20%26amp%3B%20Andreas%20Audretsch%20%28MdB%29%20%C3%
 BCber%20die%20verheerenden%20Heizungsreformideen%20von%20SPD%20und%20Unio
 n.%3C%2Fp%3E%0A%0A%0A%0A%3Cp%3EAnmeldung%20hier%3A%20%3Ca%20href%3D%22htt
 ps%3A%2F%2Fwww.gruene-bundestag.de%2Fveranstaltungen%2Fveranstaltung%2Fda
 s-teuer-heizen-gesetz-kostentreiber-fuer-die-miete-katastrophe-fuer-das-k
 lima-geschenk-fuer-die-gaslobby%2F%22%3Ehttps%3A%2F%2Fwww.gruene-bundesta
 g.de%2Fveranstaltungen%2Fveranstaltung%2Fdas-teuer-heizen-gesetz-kostentr
 eiber-fuer-die-miete-katastrophe-fuer-das-klima-geschenk-fuer-die-gaslobb
 y%2F%3C%2Fa%3E%20%3C%2Fp%3E%0A":"Das Teuer-Heizen-Gesetz - Kostentreiber 
 für die Miete\, Katastrophe für das Klima\, Geschenk für die Gaslobby"
 🔥\n\nWir sprechen mit Irmela Colaço (BUND e.V.)\, Florian Becker (Deu
 tscher Mieterbund) und Lennart Feldmann (GIH Energieberater) sowie Julia 
 Verlinden (MdB) & Andreas Audretsch (MdB) über die verheerenden Heizungs
 reformideen von SPD und Union.\n\nAnmeldung hier: https://www.gruene-bund
 estag.de/veranstaltungen/veranstaltung/das-teuer-heizen-gesetz-kostentrei
 ber-fuer-die-miete-katastrophe-fuer-das-klima-geschenk-fuer-die-gaslobby/
CLASS:PUBLIC
DTSTART;TZID=Europe/Berlin:20260303T190000
DTEND;TZID=Europe/Berlin:20260303T200000
DTSTAMP:20260420T192602
END:VEVENT
END:VCALENDAR