BEGIN:VCALENDAR
VERSION:2.0
PRODID:gruene-osterholz.de
METHOD:PUBLISH
BEGIN:VTIMEZONE
TZID:Europe/Berlin
X-LIC-LOCATION:Europe/Berlin
BEGIN:DAYLIGHT
TZOFFSETFROM:+0100
TZOFFSETTO:+0200
TZNAME:CEST
DTSTART:19700329T020000
RRULE:FREQ=YEARLY;INTERVAL=1;BYDAY=-1SU;BYMONTH=3
END:DAYLIGHT
BEGIN:STANDARD
TZOFFSETFROM:+0200
TZOFFSETTO:+0100
TZNAME:CET
DTSTART:19701025T030000
RRULE:FREQ=YEARLY;INTERVAL=1;BYDAY=-1SU;BYMONTH=10
END:STANDARD
END:VTIMEZONE
BEGIN:VEVENT
UID:755234285d029001cb4863e5f7250011@gruene-osterholz.de
URL;VALUE=URI:https://gruene-osterholz.de/termine/wohnen-in-ohz-treffen/
LOCATION:Mühle von Rönn, Lindenstraße, Osterholz-Scharmbeck
SUMMARY:Wohnen in OHZ – Treffen
DESCRIPTION;ALTREP="data:text/html,%0A%3Cp%3EF%C3%BCr%20alle%20am%20Gemei
 nsamWohnen-Interessierten%2C%3C%2Fp%3E%0A%0A%0A%0A%3Cp%3Edas%20n%C3%A4chs
 te%20Treffen%20ist%20am%20n%C3%A4chsten%20Mittwoch%2C%20den%2014.05.2025%
 20um%2018.00%20Uhr%20im%20%C2%A0M%C3%BChlencafe.%20Wer%20bis%20dahin%20Ze
 it%20und%20Lust%20hat%2C%20kann%20sich%20unter%20wohnprojekte-portal.de%2
 0weitere%20Beispiele%20und%20Infos%20ansehen%20oder%20unter%20stiftung-tr
 ias.de%20%C3%BCber%20Projekte%2C%20Beratungs-%20und%20Finanzierungsm%C3%B
 6glichkeiten%20informieren.%20Gerne%20mal%20reinsehen%20und%20Fragen%20un
 d%20Ideen%20f%C3%BCr%20Mittwoch%20sammeln.%3C%2Fp%3E%0A%0A%0A%0A%3Cp%3E%3
 C%2Fp%3E%0A":Für alle am GemeinsamWohnen-Interessierten\,\n\ndas nächst
 e Treffen ist am nächsten Mittwoch\, den 14.05.2025 um 18.00 Uhr im  M
 ühlencafe. Wer bis dahin Zeit und Lust hat\, kann sich unter wohnprojekt
 e-portal.de weitere Beispiele und Infos ansehen oder unter stiftung-trias
 .de über Projekte\, Beratungs- und Finanzierungsmöglichkeiten informier
 en. Gerne mal reinsehen und Fragen und Ideen für Mittwoch sammeln.
CLASS:PUBLIC
DTSTART;TZID=Europe/Berlin:20250514T180000
DTEND;TZID=Europe/Berlin:20250514T200000
DTSTAMP:20260420T192648
END:VEVENT
END:VCALENDAR